BEGIN:VCALENDAR
VERSION:2.0
PRODID:-//ChamberMaster//Event Calendar 2.0//EN
METHOD:PUBLISH
X-PUBLISHED-TTL:P3D
REFRESH-INTERVAL:P3D
CALSCALE:GREGORIAN
BEGIN:VEVENT
DTSTART;VALUE=DATE:20090703
DTEND;VALUE=DATE:20090706
TRANSP:TRANSPARENT
X-MICROSOFT-CDO-ALLDAYEVENT:TRUE
SUMMARY:Civil War Reenactment
DESCRIPTION:Civil War Reenactment and living history camps featuring over 800 reenactors\, daily medical\, musical\, fashion and living history demonstrations.
X-ALT-DESC;FMTTYPE=text/html:Civil War Reenactment and living history camps featuring over 800 reenactors\, daily medical\, musical\, fashion and living history demonstrations.
LOCATION:Willamette Mission State Park
UID:e.63.1957
SEQUENCE:3
DTSTAMP:20260422T074515Z
URL:https://cm.keizerchamber.com/events/details/civil-war-reenactment-07-03-2009-1957
END:VEVENT

END:VCALENDAR
