BEGIN:VCALENDAR
VERSION:2.0
PRODID:-//ChamberMaster//Event Calendar 2.0//EN
METHOD:PUBLISH
X-PUBLISHED-TTL:P3D
REFRESH-INTERVAL:P3D
CALSCALE:GREGORIAN
BEGIN:VEVENT
DTSTART:20071007T230000Z
DTEND:20071008T020000Z
X-MICROSOFT-CDO-ALLDAYEVENT:FALSE
SUMMARY:Chef's Night Out
DESCRIPTION:Mountain West Group Chefs' Nite Out\, the ninth annual benefit for Marion-Polk Food Share\, is set for Sunday\, October 7\, 4:00 to 7:00 pm at Willamette Valley Vineyards.  The event will be hosted by Willamette Valley Vineyards and Willaby's Catering\, featuring over 40 restaurants\, caterers\, wineries and other beverage purveyors from the Mid-Willamette Valley. Tickets are $65 per person and available through the Food Share. Participants offer tastes of their signature dishes and beverages. As guests mingle and talk with chefs and winemakers they can enjoy live entertainment by the Severin Sisters\, Third Edition\, guitarist Jim Skewes\, and singer-songwriter Mark Seymour
X-ALT-DESC;FMTTYPE=text/html:<div><span style="font-weight: bold\; font-size: 12pt\; color: windowtext\; line-height: 150%\; font-style: italic">Mountain West Group Chefs&rsquo\; Nite Out</span><font color="#000000" size="3"><span style="font-size: 12pt\; color: windowtext\; line-height: 150%">\, the ninth annual benefit for Marion-Polk Food Share\, is set for Sunday\, October 7\, 4:00 to 7:00 pm at Willamette Valley Vineyards.&nbsp\; The event will be hosted by Willamette Valley Vineyards and Willaby&rsquo\;s Catering\, featuring over 40 restaurants\, caterers\, wineries and other beverage purveyors from the <st1:place w:st="on"><st1:placename w:st="on">Mid-Willamette</st1:placename> <st1:placetype w:st="on">Valley</st1:placetype></st1:place>. Tickets are $65 per person and available through the Food Share. Participants offer tastes of their signature dishes and beverages. As guests mingle and talk with chefs and winemakers they can enjoy live entertainment by the Severin Sisters\, Third Edition\, guitarist Jim Skewes\, and singer-songwriter Mark Seymour</span></font></div>
LOCATION:Willamette Valley Vinyards8800 Enchanted Way SETurner\, OR 97392
UID:e.63.1423
SEQUENCE:3
DTSTAMP:20260423T145938Z
URL:https://cm.keizerchamber.com/events/details/chef-s-night-out-10-07-2007-1423
END:VEVENT

END:VCALENDAR
