BEGIN:VCALENDAR
VERSION:2.0
PRODID:-//ChamberMaster//Event Calendar 2.0//EN
METHOD:PUBLISH
X-PUBLISHED-TTL:P3D
REFRESH-INTERVAL:P3D
CALSCALE:GREGORIAN
BEGIN:VEVENT
DTSTART:20231020T003000Z
DTEND:20231020T020000Z
X-MICROSOFT-CDO-ALLDAYEVENT:FALSE
SUMMARY:Chamber After Hours Hosted By: Willamette Aerie #2081
DESCRIPTION:The Keizer Chamber is excited to invite you to Chamber After Hours!\n\nThis will be an after business hours Greeters event! Our hosts this month is Willamette Aerie # 2081\n\n\n\nBring your business cards and enjoy an evening of networking. \n\n\n\nCome and enjoy some yummy Hors d'oeuvres and some cocktails! Your first drink is on the Chamber.\n\n\n\nFun Fact: Did you know Hors d'oeuvres means "outside the work" Fitting for this fun time together!
X-ALT-DESC;FMTTYPE=text/html:<span style="font-size:14px\;"><span style="font-size:18px\;"><strong>The Keizer Chamber is excited to invite you to Chamber After Hours!</strong></span><br />\nThis will be an after business hours Greeters event!&nbsp\;Our hosts this month is Willamette Aerie # 2081<br />\n<br />\nBring your business cards and enjoy an evening of networking.&nbsp\;<br />\n<br />\nCome and enjoy some yummy Hors d&#39\;oeuvres and some cocktails! Your first drink is on the Chamber.<br />\n<br />\nFun Fact: Did you know Hors d&#39\;oeuvres means &quot\;outside the work&quot\; Fitting for this fun time together! </span>
LOCATION:Willamette Aerie #2081 4090 Cherry Ave Keizer OR 97303
UID:e.63.28395
SEQUENCE:3
DTSTAMP:20260424T001408Z
URL:https://cm.keizerchamber.com/events/details/chamber-after-hours-hosted-by-willamette-aerie-2081-28395
END:VEVENT

END:VCALENDAR
