BEGIN:VCALENDAR
VERSION:2.0
PRODID:-//ChamberMaster//Event Calendar 2.0//EN
METHOD:PUBLISH
X-PUBLISHED-TTL:P3D
REFRESH-INTERVAL:P3D
CALSCALE:GREGORIAN
BEGIN:VEVENT
DTSTART:20240517T003000Z
DTEND:20240517T020000Z
X-MICROSOFT-CDO-ALLDAYEVENT:FALSE
SUMMARY:Chamber After Hours Hosted By: Keizer Chamber of Commerce
DESCRIPTION:The Keizer Chamber is excited to invite you to Chamber After Hours!\n\n\n\nHelp us kick off Bloomin' Iris Days.\n\n\n\nCome and hear the exciting events going on this month and the ways that you can get involved.\n\n\n\nJoin us for some food\, some drinks and networking.  \n\n\n\nThis will be an after business hours Greeters event! \n\n\n\nBring your business cards and enjoy an evening of networking. \n\n\n\nCome and enjoy some yummy Hors d'oeuvres and some cocktails!\n\n\n\nFun Fact: Did you know Hors d'oeuvres means "outside the work" Fitting for this fun time together!
X-ALT-DESC;FMTTYPE=text/html:<span style="font-size:14px\;">The Keizer Chamber is excited to invite you to Chamber After Hours!<br />\n<br />\nHelp us kick off Bloomin&#39\; Iris Days.<br />\n<br />\nCome and hear the exciting events going on this month and the ways that you can get involved.<br />\n<br />\nJoin us for some food\, some drinks and networking.&nbsp\;&nbsp\;<br />\n<br />\nThis will be an after business hours Greeters event!&nbsp\;<br />\n<br />\nBring your business cards and enjoy an evening of networking.&nbsp\;<br />\n<br />\nCome and enjoy some yummy Hors d&#39\;oeuvres and some cocktails!<br />\n<br />\nFun Fact: Did you know Hors d&#39\;oeuvres means &quot\;outside the work&quot\; Fitting for this fun time together! </span>
LOCATION:The View at McNary Golf Course
UID:e.63.28830
SEQUENCE:3
DTSTAMP:20260424T090503Z
URL:https://cm.keizerchamber.com/events/details/chamber-after-hours-hosted-by-keizer-chamber-of-commerce-28830
END:VEVENT

END:VCALENDAR
