BEGIN:VCALENDAR
VERSION:2.0
PRODID:-//ChamberMaster//Event Calendar 2.0//EN
METHOD:PUBLISH
X-PUBLISHED-TTL:P3D
REFRESH-INTERVAL:P3D
CALSCALE:GREGORIAN
BEGIN:VEVENT
DTSTART:20240621T003000Z
DTEND:20240621T020000Z
X-MICROSOFT-CDO-ALLDAYEVENT:FALSE
SUMMARY:Chamber After Hours and Ribbon Cutting Hosted By: Bo & Vine Burgers
DESCRIPTION:The Keizer Chamber is excited to invite you to Chamber After Hours and a Ribbon Cutting hosted by Bo & Vine Burgers\n\n\n\nHelp us welcome Bo & Vine Burgers to the Keizer Chamber of Commerce with a ribbon cutting.\n\nThe Oregon BRC will be there to provide us with information on their new grant.\n\n\n\nJoin us for some food\, some drinks and networking.  \n\n\n\nThis will be an after business hours Greeters event! \n\n\n\nBring your business cards and enjoy an evening of networking. \n\n\n\nCome and enjoy some yummy Hors d'oeuvres and some cocktails!\n\n\n\nFun Fact: Did you know Hors d'oeuvres means "outside the work" Fitting for this fun time together!
X-ALT-DESC;FMTTYPE=text/html:<span style="font-size:14px\;">The Keizer Chamber is excited to invite you to Chamber After Hours and a Ribbon Cutting hosted by Bo &amp\; Vine Burgers<br />\n<br />\nHelp us welcome Bo &amp\; Vine Burgers to the Keizer Chamber of Commerce with a ribbon cutting.<br />\nThe Oregon BRC will be there to provide us with information on their new grant.<br />\n<br />\nJoin us for some food\, some drinks and networking.&nbsp\;&nbsp\;<br />\n<br />\nThis will be an after business hours Greeters event!&nbsp\;<br />\n<br />\nBring your business cards and enjoy an evening of networking.&nbsp\;<br />\n<br />\nCome and enjoy some yummy Hors d&#39\;oeuvres and some cocktails!<br />\n<br />\nFun Fact: Did you know Hors d&#39\;oeuvres means &quot\;outside the work&quot\; Fitting for this fun time together! </span>
LOCATION:Bo & Vine Burgers Downtown Salem 3969 Commercial St SE
UID:e.63.28856
SEQUENCE:3
DTSTAMP:20260424T091513Z
URL:https://cm.keizerchamber.com/events/details/chamber-after-hours-and-ribbon-cutting-hosted-by-bo-vine-burgers-28856
END:VEVENT

END:VCALENDAR
