BEGIN:VCALENDAR
VERSION:2.0
PRODID:-//ChamberMaster//Event Calendar 2.0//EN
METHOD:PUBLISH
X-PUBLISHED-TTL:P3D
REFRESH-INTERVAL:P3D
CALSCALE:GREGORIAN
BEGIN:VEVENT
DTSTART:20230922T003000Z
DTEND:20230922T020000Z
X-MICROSOFT-CDO-ALLDAYEVENT:FALSE
SUMMARY:Chamber After Hours
DESCRIPTION:The Keizer Chamber is excited to invite you to Chamber After Hours!\n\nOur host this month is the Latino Business Alliance. \n\n\n\nThis will be an after business hours Greeters event! We will spend time networking and learning about The LBA and the exciting changes coming in the future.\n\n\n\nCome and enjoy some yummy Hors d'oeuvres and some cocktails! Your first drink is on the Chamber.\n\n\n\nFun fact\, did you know Hors d'oeuvres means "outside the work" Fitting for this fun time together!
X-ALT-DESC;FMTTYPE=text/html:<span style="font-size:14px\;"><span style="font-size:16px\;">The Keizer Chamber is excited to invite you to Chamber After Hours!<br />\nOur host this month is the Latino Business Alliance.&nbsp\;<br />\n<br />\nThis will be an after business hours Greeters event! We will spend time networking and learning about The LBA and the exciting changes coming in the future.<br />\n<br />\nCome and enjoy some yummy Hors d&#39\;oeuvres and some cocktails! Your first drink is on the Chamber.<br />\n<br />\nFun fact\, did you know Hors d&#39\;oeuvres means &quot\;outside the work&quot\; Fitting for this fun time togeth</span>er! </span>
LOCATION:The View Restaurant & Lounge 155 McNary Estates Dr. N Keizer OR 97303
UID:e.63.28383
SEQUENCE:3
DTSTAMP:20260424T030740Z
URL:https://cm.keizerchamber.com/events/details/chamber-after-hours-28383
END:VEVENT

END:VCALENDAR
