BEGIN:VCALENDAR
VERSION:2.0
PRODID:-//ChamberMaster//Event Calendar 2.0//EN
METHOD:PUBLISH
X-PUBLISHED-TTL:P3D
REFRESH-INTERVAL:P3D
CALSCALE:GREGORIAN
BEGIN:VEVENT
DTSTART:20081218T020000Z
DTEND:20081218T030000Z
X-MICROSOFT-CDO-ALLDAYEVENT:FALSE
SUMMARY:Boucher Jewelers Business After Hours
DESCRIPTION:Business After Hours hosted by Boucher Jewelers. After Hours is a great opportunity to meet with other Keizer Chamber members and guests for an evening of socializing and networking. \n\nJoin our host Randy Moseley and the staff at Bouchers for some last minute gifts and some of their famous eggnog. Door prizes and discounts will be given away so don't miss the fun. Don't forget to bring plenty of business cards!
X-ALT-DESC;FMTTYPE=text/html:<div>Business After Hours hosted by Boucher Jewelers.</div><div>&nbsp\;</div><div>After Hours is a great opportunity to meet with other Keizer Chamber members and guests for an evening of socializing and networking.&nbsp\;<br /><br />Join our host Randy Moseley and the staff at Bouchers for some last minute gifts and some of their famous eggnog. Door prizes and discounts will be given away so don&rsquo\;t miss the fun.</div><div>&nbsp\;</div><div>Don't forget to bring plenty of business cards!</div><div>&nbsp\;</div><div>&nbsp\;</div>
LOCATION:Boucher Jewelers4965 River Rd NKeizer Oregon
UID:e.63.1770
SEQUENCE:3
DTSTAMP:20260422T221652Z
URL:https://cm.keizerchamber.com/events/details/boucher-jewelers-business-after-hours-12-17-2008-1770
END:VEVENT

END:VCALENDAR
