BEGIN:VCALENDAR
VERSION:2.0
PRODID:-//ChamberMaster//Event Calendar 2.0//EN
METHOD:PUBLISH
X-PUBLISHED-TTL:P3D
REFRESH-INTERVAL:P3D
CALSCALE:GREGORIAN
BEGIN:VEVENT
DTSTART:20090318T010000Z
DTEND:20090318T050000Z
X-MICROSOFT-CDO-ALLDAYEVENT:FALSE
SUMMARY:Blanchet Catholic School's Blarney Bash
DESCRIPTION:Join Blanchet for this St. Patrick's Day celebration with musical entertainment\, games\, contests\, food and drinks! Call Megan Johnston for ticket information - (503) 391-2639
X-ALT-DESC;FMTTYPE=text/html:Join Blanchet for this St. Patrick's Day celebration with musical entertainment\, games\, contests\, food and drinks! Call Megan Johnston for ticket information - (503) 391-2639
LOCATION:Blanchet Catholic School
UID:e.63.1932
SEQUENCE:3
DTSTAMP:20260422T175524Z
URL:https://cm.keizerchamber.com/events/details/blanchet-catholic-school-s-blarney-bash-03-17-2009-1932
END:VEVENT

END:VCALENDAR
