BEGIN:VCALENDAR
VERSION:2.0
PRODID:-//ChamberMaster//Event Calendar 2.0//EN
METHOD:PUBLISH
X-PUBLISHED-TTL:P3D
REFRESH-INTERVAL:P3D
CALSCALE:GREGORIAN
BEGIN:VEVENT
DTSTART:20081012T000000Z
DTEND:20081012T040000Z
X-MICROSOFT-CDO-ALLDAYEVENT:FALSE
SUMMARY:Blanchet Catholic School's 12th Annual Benefit Auction
DESCRIPTION:Blanchet Catholic School's 12th annual benefit auction\, "Roar of the Wild\, an African Safari\," is the school's largest fundraiser\, raising over $125\,000 for students and programs. Enjoy entertainment\, dinner catered by the Wooden Nickel and many wonderful silent and oral auction items.
X-ALT-DESC;FMTTYPE=text/html:Blanchet Catholic School's 12th annual benefit auction\, "Roar of the Wild\, an African Safari\," is the school's largest fundraiser\, raising over $125\,000 for students and programs. Enjoy entertainment\, dinner catered by the Wooden Nickel and many wonderful silent and oral auction items.
LOCATION:Blanchet Catholic School - 4373 Market St. NE\, Salem\, 97301
UID:e.63.1736
SEQUENCE:3
DTSTAMP:20260422T215136Z
URL:https://cm.keizerchamber.com/events/details/blanchet-catholic-school-s-12th-annual-benefit-auction-10-11-2008-1736
END:VEVENT

END:VCALENDAR
