BEGIN:VCALENDAR
VERSION:2.0
PRODID:-//ChamberMaster//Event Calendar 2.0//EN
METHOD:PUBLISH
X-PUBLISHED-TTL:P3D
REFRESH-INTERVAL:P3D
CALSCALE:GREGORIAN
BEGIN:VEVENT
DTSTART:20080214T200000Z
DTEND:20080216T200000Z
X-MICROSOFT-CDO-ALLDAYEVENT:FALSE
SUMMARY:Blanchet Catholic High School Drama Department Presents ''The Foreigner''
DESCRIPTION:"The Foreigner" will open on Thursday Feb. 14 at 7:00 pm and will continue its run on Friday Feb. 15 at 7:00 pm and Saturday Feb 16 at 2:00 pm. Tickets are $7 for adults and $5 for students and senior citizens.
X-ALT-DESC;FMTTYPE=text/html:"The Foreigner" will open on Thursday Feb. 14 at 7:00 pm and will continue its run on Friday Feb. 15 at 7:00 pm and Saturday Feb 16 at 2:00 pm. Tickets are $7 for adults and $5 for students and senior citizens.
LOCATION:Blanchet Catholic School
UID:e.63.1701
SEQUENCE:3
DTSTAMP:20260423T094320Z
URL:https://cm.keizerchamber.com/events/details/blanchet-catholic-high-school-drama-department-presents-the-foreigner-02-14-2008-1701
END:VEVENT

END:VCALENDAR
