BEGIN:VCALENDAR
VERSION:2.0
PRODID:-//ChamberMaster//Event Calendar 2.0//EN
METHOD:PUBLISH
X-PUBLISHED-TTL:P3D
REFRESH-INTERVAL:P3D
CALSCALE:GREGORIAN
BEGIN:VEVENT
DTSTART:20230921T193000Z
DTEND:20230921T223000Z
X-MICROSOFT-CDO-ALLDAYEVENT:FALSE
SUMMARY:Bingo at K/SAS
DESCRIPTION:Bingo fun and fellowship.
X-ALT-DESC;FMTTYPE=text/html:<span style="font-size:20px\;">Bingo fun and fellowship.</span>
LOCATION:Keizer/Salem Senior Center 930 Plymouth DR NE Keizer\, OR 97303
UID:e.63.28369
SEQUENCE:3
DTSTAMP:20260424T014422Z
URL:https://cm.keizerchamber.com/events/details/bingo-at-k-sas-09-21-2023-28369
END:VEVENT

END:VCALENDAR
