BEGIN:VCALENDAR
VERSION:2.0
PRODID:-//ChamberMaster//Event Calendar 2.0//EN
METHOD:PUBLISH
X-PUBLISHED-TTL:P3D
REFRESH-INTERVAL:P3D
CALSCALE:GREGORIAN
BEGIN:VEVENT
DTSTART:20230907T193000Z
DTEND:20230907T223000Z
X-MICROSOFT-CDO-ALLDAYEVENT:FALSE
SUMMARY:Bingo at K/SAS
DESCRIPTION:Bingo fun and refreshments.
X-ALT-DESC;FMTTYPE=text/html:<span style="font-size:18px\;">Bingo fun and refreshments.</span>
LOCATION:Keizer/Salem Senior Center 930 Plymouth DR NE Keizer\, OR 97303
UID:e.63.28365
SEQUENCE:3
DTSTAMP:20260424T031033Z
URL:https://cm.keizerchamber.com/events/details/bingo-at-k-sas-09-07-2023-28365
END:VEVENT

END:VCALENDAR
