BEGIN:VCALENDAR
VERSION:2.0
PRODID:-//ChamberMaster//Event Calendar 2.0//EN
METHOD:PUBLISH
X-PUBLISHED-TTL:P3D
REFRESH-INTERVAL:P3D
CALSCALE:GREGORIAN
BEGIN:VEVENT
DTSTART:20240104T203000Z
DTEND:20240104T233000Z
X-MICROSOFT-CDO-ALLDAYEVENT:FALSE
SUMMARY:Bingo at K/SAS
DESCRIPTION:Bingo with fellowship and light refreshments.
X-ALT-DESC;FMTTYPE=text/html:Bingo with fellowship and light refreshments.
LOCATION:Keizer Salem Senior Center 930 Plymouth DR NE Keizer\, OR 97303
UID:e.63.28533
SEQUENCE:3
DTSTAMP:20260424T030934Z
URL:https://cm.keizerchamber.com/events/details/bingo-at-k-sas-01-04-2024-28533
END:VEVENT

END:VCALENDAR
