BEGIN:VCALENDAR
VERSION:2.0
PRODID:-//ChamberMaster//Event Calendar 2.0//EN
METHOD:PUBLISH
X-PUBLISHED-TTL:P3D
REFRESH-INTERVAL:P3D
CALSCALE:GREGORIAN
BEGIN:VEVENT
DTSTART:20240518T170000Z
DTEND:20240518T230000Z
X-MICROSOFT-CDO-ALLDAYEVENT:FALSE
SUMMARY:B-17 Alliance - Honoring the American Spirit
DESCRIPTION:Celebrate the American Spirit of our Military with the B-7 Alliance\n\n\n\nJoin us for live music\, vendors\, special guests\, various vendors and living history. \n\n\n\nPurchase tickets or membership\n\nhttp://www.B17Alliance.com/membership
X-ALT-DESC;FMTTYPE=text/html:Celebrate the American Spirit of our Military with the B-7 Alliance<br />\n<br />\nJoin us for live music\, vendors\, special guests\, various vendors and living history.&nbsp\;<br />\n<br />\nPurchase tickets or membership<br />\n<a href="http://www.B17Alliance.com/membership">http://www.B17Alliance.com/membership</a><br />\n&nbsp\;
LOCATION:B-17 Alliance Museum & Restoration Hangar 3278 25th St SE Salem\, OR 97302
UID:e.63.28581
SEQUENCE:3
DTSTAMP:20260424T091410Z
URL:https://cm.keizerchamber.com/events/details/b-17-alliance-honoring-the-american-spirit-28581
END:VEVENT

END:VCALENDAR
