BEGIN:VCALENDAR
VERSION:2.0
PRODID:-//ChamberMaster//Event Calendar 2.0//EN
METHOD:PUBLISH
X-PUBLISHED-TTL:P3D
REFRESH-INTERVAL:P3D
CALSCALE:GREGORIAN
BEGIN:VEVENT
DTSTART:20100901T230000Z
DTEND:20100902T030000Z
X-MICROSOFT-CDO-ALLDAYEVENT:FALSE
SUMMARY:After 75 Years\, We're Still Cooke'n!
DESCRIPTION:As a way to say "thank you" to our many customers and reaffirm our commitment to provide you with exceptional value and superior service\, please join us as we take a look back at 75 years in Salem. The Anniversary Celebration will take place during the "Go Downtown" First Wednesday activities and feature prize drawings\, free samples\, activities\, refreshments and more.
X-ALT-DESC;FMTTYPE=text/html:<div>As a way to say &quot\;thank you&quot\; to our many customers and reaffirm our commitment to provide you with exceptional value and superior service\, please join us as we take a look back at 75 years in Salem. The Anniversary Celebration will take place during the &quot\;Go Downtown&quot\; First Wednesday activities and feature prize drawings\, free samples\, activities\, refreshments and more.</div>
LOCATION:370 State Street Salem\, OR 97301
UID:e.63.2368
SEQUENCE:3
DTSTAMP:20260421T155448Z
URL:https://cm.keizerchamber.com/events/details/after-75-years-we-re-still-cooke-n-09-01-2010-2368
END:VEVENT

END:VCALENDAR
