BEGIN:VCALENDAR
VERSION:2.0
PRODID:-//ChamberMaster//Event Calendar 2.0//EN
METHOD:PUBLISH
X-PUBLISHED-TTL:P3D
REFRESH-INTERVAL:P3D
CALSCALE:GREGORIAN
BEGIN:VEVENT
DTSTART:20240517T153000Z
DTEND:20240517T210000Z
X-MICROSOFT-CDO-ALLDAYEVENT:FALSE
SUMMARY:2024 Bloomin' Iris Open Golf Tournament
DESCRIPTION:PLEASE CALL OUR OFFICE FOR ANY FURTHER REGISTRATION 503-393-9111\n\n\n\nGet a team together (4-person scramble) and join in the fun at McNary Golf Club for the 2024 Bloomin' Iris Open. Your entry includes 18 holes of golf\, chances to play for amazing prizes\, the use of carts if you need them\, and the opportunity to win great prizes. All the proceeds will be donated to the K.N.O.W. Holiday Giving Basket Program that services the children in Keizer schools and their families.\n\n\n\nThe View Restaurant will be catering the event! Small lunch & BBQ afterward so you can enjoy a delicious meal and a drink on the patio!\n\n\n\nYou can also support the Keizer Chamber while promoting your business with an Exclusive Bloomin' Tee Sponsorship for $350 or a Sponsor Sign at the Green for $160\, but HURRY! These opportunities are limited!\n\n\n\nThere will be a raffle party that follows.
X-ALT-DESC;FMTTYPE=text/html:<div style="text-align: justify\;"><span style="color:#008000\;"><strong><span style="font-size:14px\;"><span style="font-family:verdana\;">PLEASE CALL OUR OFFICE FOR ANY FURTHER REGISTRATION 503-393-9111<br />\n<br />\nGet a team together (4-person scramble) and join in the fun at McNary Golf Club for the 2024&nbsp\;Bloomin&#39\; Iris Open. </span></span></strong></span><span style="color:#008000\;"><strong><span style="font-size:14px\;"><span style="font-family:verdana\;">Your entry includes 18 holes of golf\, chances to play for amazing prizes\, the use of carts if you need them\, and the opportunity to win great prizes. All the proceeds will be donated to the K.N.O.W. Holiday Giving Basket Program that services the children in Keizer schools and their families.</span></span></strong></span><br />\n<br />\n<span style="color:#008000\;"><strong><span style="font-size:14px\;"><span style="font-family:verdana\;">The View Restaurant will be catering the event! Small lunch &amp\; BBQ afterward so you can&nbsp\;enjoy a delicious meal and a drink on the patio!<br />\n<br />\nYou can also support the Keizer Chamber while promoting your business with an Exclusive Bloomin&#39\; Tee Sponsorship for $350 or a Sponsor Sign at the Green for $160\, but HURRY! <u><em>These opportunities are limited!<br />\n<br />\nThere will be a raffle party that follows.</em></u></span></span></strong></span></div>\n
LOCATION:McNary Golf Club 155 McNary Estates Drive N Keizer\, Oregon
UID:e.63.28545
SEQUENCE:3
DTSTAMP:20260421T063458Z
URL:https://cm.keizerchamber.com/events/details/2024-bloomin-iris-open-golf-tournament-28545
END:VEVENT

END:VCALENDAR
